BEGIN:VCALENDAR
VERSION:2.0
PRODID:-//Dripping Springs Aggie Moms - ECPv6.15.17.1//NONSGML v1.0//EN
CALSCALE:GREGORIAN
METHOD:PUBLISH
X-WR-CALNAME:Dripping Springs Aggie Moms
X-ORIGINAL-URL:https://dspr.aggiemoms.org
X-WR-CALDESC:Events for Dripping Springs Aggie Moms
REFRESH-INTERVAL;VALUE=DURATION:PT1H
X-Robots-Tag:noindex
X-PUBLISHED-TTL:PT1H
BEGIN:VTIMEZONE
TZID:UTC
BEGIN:STANDARD
TZOFFSETFROM:+0000
TZOFFSETTO:+0000
TZNAME:UTC
DTSTART:20250101T000000
END:STANDARD
END:VTIMEZONE
BEGIN:VEVENT
DTSTART;TZID=UTC:20260114T180000
DTEND;TZID=UTC:20260114T193000
DTSTAMP:20260420T110804
CREATED:20260108T011450Z
LAST-MODIFIED:20260108T011450Z
UID:380-1768413600-1768419000@dspr.aggiemoms.org
SUMMARY:Board Meeting
DESCRIPTION:
URL:https://dspr.aggiemoms.org/event/board-meeting/
LOCATION:Texas Regional Bank\, 700 East Highway 290\, Dripping Springs\, TX\, 78666\, United States
END:VEVENT
END:VCALENDAR